BEGIN:VCALENDAR
VERSION:2.0
PRODID:-//Keep Grapevine Beautiful - ECPv6.6.3//NONSGML v1.0//EN
CALSCALE:GREGORIAN
METHOD:PUBLISH
X-WR-CALNAME:Keep Grapevine Beautiful
X-ORIGINAL-URL:https://keepgrapevinebeautiful.org
X-WR-CALDESC:Events for Keep Grapevine Beautiful
REFRESH-INTERVAL;VALUE=DURATION:PT1H
X-Robots-Tag:noindex
X-PUBLISHED-TTL:PT1H
BEGIN:VTIMEZONE
TZID:America/Chicago
BEGIN:DAYLIGHT
TZOFFSETFROM:-0600
TZOFFSETTO:-0500
TZNAME:CDT
DTSTART:20230312T080000
END:DAYLIGHT
BEGIN:STANDARD
TZOFFSETFROM:-0500
TZOFFSETTO:-0600
TZNAME:CST
DTSTART:20231105T070000
END:STANDARD
END:VTIMEZONE
BEGIN:VEVENT
DTSTART;TZID=America/Chicago:20230920T190000
DTEND;TZID=America/Chicago:20230920T200000
DTSTAMP:20260422T172229
CREATED:20230727T170648Z
LAST-MODIFIED:20230803T205717Z
UID:10000247-1695236400-1695240000@keepgrapevinebeautiful.org
SUMMARY:ECO Talks: Tough Texas Plants
DESCRIPTION:The climate in North Texas can be harsh for some plants\, but lush home landscapes can be created using the right plants and design principles. A Master Gardner will walk attendees through design examples that provide inspiration and reduce future effort. You’ll also learn the variety of plants that are well-suited for North Texas and when to plant.
URL:https://keepgrapevinebeautiful.org/event/septlecture/
LOCATION:The REC of Grapevine\, 1175 Municipal Way\, Grapevine\, TX\, 76051\, United States
CATEGORIES:Beautification,ECO Talks
ATTACH;FMTTYPE=image/png:https://keepgrapevinebeautiful.org/wp-content/uploads/2021/04/EcoTalks_final-01.png
ORGANIZER;CN="Keep Grapevine Beautiful":MAILTO:info@KeepGrapevineBeautiful.org
END:VEVENT
END:VCALENDAR