BEGIN:VCALENDAR
VERSION:2.0
PRODID:-//Keep Grapevine Beautiful - ECPv6.6.3//NONSGML v1.0//EN
CALSCALE:GREGORIAN
METHOD:PUBLISH
X-WR-CALNAME:Keep Grapevine Beautiful
X-ORIGINAL-URL:https://keepgrapevinebeautiful.org
X-WR-CALDESC:Events for Keep Grapevine Beautiful
REFRESH-INTERVAL;VALUE=DURATION:PT1H
X-Robots-Tag:noindex
X-PUBLISHED-TTL:PT1H
BEGIN:VTIMEZONE
TZID:America/Chicago
BEGIN:DAYLIGHT
TZOFFSETFROM:-0600
TZOFFSETTO:-0500
TZNAME:CDT
DTSTART:20240310T080000
END:DAYLIGHT
BEGIN:STANDARD
TZOFFSETFROM:-0500
TZOFFSETTO:-0600
TZNAME:CST
DTSTART:20241103T070000
END:STANDARD
END:VTIMEZONE
BEGIN:VEVENT
DTSTART;TZID=America/Chicago:20240904T190000
DTEND;TZID=America/Chicago:20240904T200000
DTSTAMP:20260422T172942
CREATED:20240405T185058Z
LAST-MODIFIED:20240731T171247Z
UID:10000313-1725476400-1725480000@keepgrapevinebeautiful.org
SUMMARY:ECO Talks: Trinity Metro and TEXRail
DESCRIPTION:Trinity Metro is proud to be the public transportation provider for Tarrant County. Their services include a bus network\, TEXRail commuter rail line\, ACCESS paratransit\, ZIPZONE on-demand rideshare services\, Fort Worth Bike Sharing\, and vanpools. Detra Whitmore\, V.P. of Community Engagement\, will lead\, sharing information about Grapevine’s rail service history\, benefits\, and the outlook for the future. \nRegistration opens a month prior to the event.
URL:https://keepgrapevinebeautiful.org/event/texrail/
LOCATION:Grapevine Library\, 1201 Municipal Way\, Grapevine\, TX\, 76051\, United States
CATEGORIES:ECO Talks
ATTACH;FMTTYPE=image/jpeg:https://keepgrapevinebeautiful.org/wp-content/uploads/2024/04/Train-Hotel-Vin.jpg
ORGANIZER;CN="Keep Grapevine Beautiful":MAILTO:info@KeepGrapevineBeautiful.org
END:VEVENT
BEGIN:VEVENT
DTSTART;TZID=America/Chicago:20240903T080000
DTEND;TZID=America/Chicago:20240903T100000
DTSTAMP:20260422T172942
CREATED:20240711T192309Z
LAST-MODIFIED:20240731T140030Z
UID:10000321-1725350400-1725357600@keepgrapevinebeautiful.org
SUMMARY:Post-Labor Day Cleanup Crusade
DESCRIPTION:The Labor Day holiday brings thousands of visitors to our parks. Help our green spaces recover by removing litter throughout the park system. We will have a centralized supply pickup and return so you and your group can work at your own pace. We can provide locations that need the most attention. Locations and info will be sent by August 28. \nRegistration opens August 7 \nDate: September 3\, 2024 \nTime: 8:00 – 10:00 am
URL:https://keepgrapevinebeautiful.org/event/cleanupcrusade/
LOCATION:Grapevine Area Parks\, Grapevine\, TX\, United States
CATEGORIES:Volunteering
ATTACH;FMTTYPE=image/jpeg:https://keepgrapevinebeautiful.org/wp-content/uploads/2024/07/IMG_3914.jpeg
ORGANIZER;CN="Keep Grapevine Beautiful":MAILTO:info@KeepGrapevineBeautiful.org
END:VEVENT
BEGIN:VEVENT
DTSTART;VALUE=DATE:20240903
DTEND;VALUE=DATE:20241009
DTSTAMP:20260422T172942
CREATED:20220913T153955Z
LAST-MODIFIED:20240719T205214Z
UID:10000118-1725321600-1728431999@keepgrapevinebeautiful.org
SUMMARY:Gives Grant Program
DESCRIPTION:Established in 2018\, the Keep Grapevine Beautiful Gives grant allows organizations\, businesses and schools an opportunity to apply for grant funding to be used toward improvements that support our focus areas. Applications are accepted September – October. You can go here to view the application. Keep Grapevine Beautiful board members will choose finalists at the October 14 board meeting. Finalists will be invited to briefly present to the board who determines winner(s). \nSee past winners here. \nEmail us at KeepGrapevineBeautiful@grapevinetexas.gov if you have questions. \nWe are pleased that the Gives grant is sponsored in part by Sam Pack’s Five Star Subaru-Grapevine.
URL:https://keepgrapevinebeautiful.org/event/gives-2/
LOCATION:TX
ATTACH;FMTTYPE=image/png:https://keepgrapevinebeautiful.org/wp-content/uploads/2021/07/KGVBGives_Color-01.png
END:VEVENT
BEGIN:VEVENT
DTSTART;TZID=America/Chicago:20240807T190000
DTEND;TZID=America/Chicago:20240807T203000
DTSTAMP:20260422T172942
CREATED:20240405T184148Z
LAST-MODIFIED:20240725T132103Z
UID:10000312-1723057200-1723062600@keepgrapevinebeautiful.org
SUMMARY:ECO Talks: Sustainable Alternatives to Turf in Residential Landscaping
DESCRIPTION:Dive into the Green Revolution! Join us for an enlightening lecture on alternatives to turf grass in residential yards. Discover sustainable landscaping options that are both eco-friendly and beautiful. \nTHIS EVENT IS FULL.
URL:https://keepgrapevinebeautiful.org/event/turf/
LOCATION:Grapevine Library\, 1201 Municipal Way\, Grapevine\, TX\, 76051\, United States
CATEGORIES:Beautification,ECO Talks
ATTACH;FMTTYPE=image/jpeg:https://keepgrapevinebeautiful.org/wp-content/uploads/2024/04/crushed-gravel-path-grace-design-associates_2939.jpg
ORGANIZER;CN="Keep Grapevine Beautiful":MAILTO:info@KeepGrapevineBeautiful.org
END:VEVENT
END:VCALENDAR