BEGIN:VCALENDAR
VERSION:2.0
PRODID:-//Keep Grapevine Beautiful - ECPv6.6.3//NONSGML v1.0//EN
CALSCALE:GREGORIAN
METHOD:PUBLISH
X-WR-CALNAME:Keep Grapevine Beautiful
X-ORIGINAL-URL:https://keepgrapevinebeautiful.org
X-WR-CALDESC:Events for Keep Grapevine Beautiful
REFRESH-INTERVAL;VALUE=DURATION:PT1H
X-Robots-Tag:noindex
X-PUBLISHED-TTL:PT1H
BEGIN:VTIMEZONE
TZID:America/Chicago
BEGIN:DAYLIGHT
TZOFFSETFROM:-0600
TZOFFSETTO:-0500
TZNAME:CDT
DTSTART:20240310T080000
END:DAYLIGHT
BEGIN:STANDARD
TZOFFSETFROM:-0500
TZOFFSETTO:-0600
TZNAME:CST
DTSTART:20241103T070000
END:STANDARD
BEGIN:DAYLIGHT
TZOFFSETFROM:-0600
TZOFFSETTO:-0500
TZNAME:CDT
DTSTART:20250309T080000
END:DAYLIGHT
BEGIN:STANDARD
TZOFFSETFROM:-0500
TZOFFSETTO:-0600
TZNAME:CST
DTSTART:20251102T070000
END:STANDARD
END:VTIMEZONE
BEGIN:VEVENT
DTSTART;TZID=America/Chicago:20250108T190000
DTEND;TZID=America/Chicago:20250108T200000
DTSTAMP:20260422T171335
CREATED:20241209T185258Z
LAST-MODIFIED:20241209T185258Z
UID:10000325-1736362800-1736366400@keepgrapevinebeautiful.org
SUMMARY:ECO Talks: Urban Wildlife of Grapevine
DESCRIPTION:Grapevine is part of the urban ecosystem of Dallas/Fort Worth\, and believe it or not\, it is filled with biodiversity! We share this area with countless organisms — birds\, bees\, bugs\, beavers\, and all manner of critters. In this presentation\, we’ll talk about many of these organisms and ways that we can live with them so everyone can be safe and happy!
URL:https://keepgrapevinebeautiful.org/event/wildlife/
LOCATION:The REC of Grapevine\, 1175 Municipal Way\, Grapevine\, TX\, 76051\, United States
CATEGORIES:ECO Talks
ATTACH;FMTTYPE=image/jpeg:https://keepgrapevinebeautiful.org/wp-content/uploads/2024/12/Bobcat-Parr-Sept-2024.jpg
ORGANIZER;CN="Keep Grapevine Beautiful":MAILTO:info@KeepGrapevineBeautiful.org
END:VEVENT
BEGIN:VEVENT
DTSTART;TZID=America/Chicago:20241002T190000
DTEND;TZID=America/Chicago:20241002T200000
DTSTAMP:20260422T171335
CREATED:20240612T201851Z
LAST-MODIFIED:20240925T135452Z
UID:10000319-1727895600-1727899200@keepgrapevinebeautiful.org
SUMMARY:ECO Talks: The Vital Role of Bees
DESCRIPTION:THIS EVENT IS FULL. \nDid you know? There are an estimated 20\,000 species of bees\, and approximately 3\,600 bee species native to the United States and Canada alone. These pollinators include solitary bees\, bumble bees and honey bees. Although birds\, bats\, and other creatures are also pollinators\, insects\, like bees\, are the animals that do the bulk of the pollination that affects our daily lives. Wild bees are generally different than domesticated honey bees and live underground in nests.  An expert speaker will teach attendees how to protect and attract these hardworking pollinators who help our gardens and ecosystems thrive. \nRegistration opens one month in advance.
URL:https://keepgrapevinebeautiful.org/event/bees/
LOCATION:Bessie Mitchell House\, 411 Ball St\, Grapevine\, 76051
CATEGORIES:ECO Talks
ATTACH;FMTTYPE=image/jpeg:https://keepgrapevinebeautiful.org/wp-content/uploads/2024/06/IMG_9563.jpeg
ORGANIZER;CN="Keep Grapevine Beautiful":MAILTO:info@KeepGrapevineBeautiful.org
END:VEVENT
END:VCALENDAR