BEGIN:VCALENDAR
VERSION:2.0
PRODID:-//Keep Grapevine Beautiful - ECPv6.6.3//NONSGML v1.0//EN
CALSCALE:GREGORIAN
METHOD:PUBLISH
X-ORIGINAL-URL:https://keepgrapevinebeautiful.org
X-WR-CALDESC:Events for Keep Grapevine Beautiful
REFRESH-INTERVAL;VALUE=DURATION:PT1H
X-Robots-Tag:noindex
X-PUBLISHED-TTL:PT1H
BEGIN:VTIMEZONE
TZID:America/Chicago
BEGIN:DAYLIGHT
TZOFFSETFROM:-0600
TZOFFSETTO:-0500
TZNAME:CDT
DTSTART:20230312T080000
END:DAYLIGHT
BEGIN:STANDARD
TZOFFSETFROM:-0500
TZOFFSETTO:-0600
TZNAME:CST
DTSTART:20231105T070000
END:STANDARD
BEGIN:DAYLIGHT
TZOFFSETFROM:-0600
TZOFFSETTO:-0500
TZNAME:CDT
DTSTART:20240310T080000
END:DAYLIGHT
BEGIN:STANDARD
TZOFFSETFROM:-0500
TZOFFSETTO:-0600
TZNAME:CST
DTSTART:20241103T070000
END:STANDARD
BEGIN:DAYLIGHT
TZOFFSETFROM:-0600
TZOFFSETTO:-0500
TZNAME:CDT
DTSTART:20250309T080000
END:DAYLIGHT
BEGIN:STANDARD
TZOFFSETFROM:-0500
TZOFFSETTO:-0600
TZNAME:CST
DTSTART:20251102T070000
END:STANDARD
END:VTIMEZONE
BEGIN:VEVENT
DTSTART;TZID=America/Chicago:20250927T090000
DTEND;TZID=America/Chicago:20250927T110000
DTSTAMP:20260422T105308
CREATED:20250417T182631Z
LAST-MODIFIED:20250915T161120Z
UID:10000359-1758963600-1758970800@keepgrapevinebeautiful.org
SUMMARY:Fall Sweep
DESCRIPTION:FALL SWEEP IS FULL! Please join us at Happy to Help in October. \nJoin us for the biggest event of the year as we unite to enhance our environment. Volunteers will be tackling park projects and picking up litter throughout the city. Every pair of hands makes a difference in creating a cleaner\, greener community. Let’s make this fall the season of positive change! \nAt 11:00 am volunteers return supplies to the courtyard at The REC of Grapevine. Here\, you’ll receive a free lunch (courtesy of 121 Community Church) and T shirt (courtesy of the T Shirt Guys). Then we’ll have prize drawings for free gear from REI. \nThis event fills up every year. Register today. \nIf you registered to volunteer\, you can pick up supplies at 225 W. Worth St. between Tuesday\, Sept. 23 at 8:00 am and Friday\, Sept. 26 at 3:00 pm. Supplies include one litter grabber per volunteer (while they last)\, two trash bags and a pair of nitrile gloves.
URL:https://keepgrapevinebeautiful.org/event/fallsweep-2/
LOCATION:Grapevine Area Parks\, Grapevine\, TX\, United States
CATEGORIES:Beautification,Litter Prevention,Volunteering
ATTACH;FMTTYPE=image/png:https://keepgrapevinebeautiful.org/wp-content/uploads/2021/01/Fall_Clean_Sweep_Leave_Fall_Rake_ColorGreen.png
ORGANIZER;CN="Keep Grapevine Beautiful":MAILTO:info@KeepGrapevineBeautiful.org
END:VEVENT
BEGIN:VEVENT
DTSTART;TZID=America/Chicago:20250323T150000
DTEND;TZID=America/Chicago:20250323T160000
DTSTAMP:20260422T105308
CREATED:20250307T193754Z
LAST-MODIFIED:20250811T142544Z
UID:10000350-1742742000-1742745600@keepgrapevinebeautiful.org
SUMMARY:Park Ambassador Program
DESCRIPTION:Join Our Park Ambassadors! Our parks are enjoyed by thousands of guests each weekend. Park Ambassadors play a crucial role in enhancing the visitor experience\, boosting environmental education\, and promoting the Litter Ends With Us campaign. We are looking for good-natured volunteers to share their appreciation for natural environment with our visitors on the weekends at Oak Grove Park.  \nRegister for a training date below! Email Cindy Harris at Charris@grapevinetexas.gov with questions.  \n 
URL:https://keepgrapevinebeautiful.org/event/park-ambassador-program/
LOCATION:Lake Grapevine Runners and Walkers Clubhouse\, 2615 Dove Loop Road\, Grapevine\, United States
CATEGORIES:Beautification,Litter Prevention,Volunteering
ATTACH;FMTTYPE=image/png:https://keepgrapevinebeautiful.org/wp-content/uploads/2025/03/Litter-Ends-VL-1.png
ORGANIZER;CN="Keep Grapevine Beautiful":MAILTO:info@KeepGrapevineBeautiful.org
END:VEVENT
BEGIN:VEVENT
DTSTART;TZID=America/Chicago:20250322T090000
DTEND;TZID=America/Chicago:20250322T110000
DTSTAMP:20260422T105308
CREATED:20241231T170404Z
LAST-MODIFIED:20250220T155827Z
UID:10000334-1742634000-1742641200@keepgrapevinebeautiful.org
SUMMARY:Happy to Help Saturday
DESCRIPTION:Our fourth Saturday community improvement event. Projects may include litter cleanup\, invasive removal or planting. \nIf no shifts appear\, all are filled. Check back\, there may be cancelations. \n  Registration opens one month prior to the event. 
URL:https://keepgrapevinebeautiful.org/event/happy-to-help-saturday-5/
LOCATION:Grapevine Area Parks\, Grapevine\, TX\, United States
CATEGORIES:Beautification,Litter Prevention,Volunteering
ATTACH;FMTTYPE=image/jpeg:https://keepgrapevinebeautiful.org/wp-content/uploads/2024/12/Archer-Taylor.jpg
ORGANIZER;CN="Keep Grapevine Beautiful":MAILTO:info@KeepGrapevineBeautiful.org
END:VEVENT
BEGIN:VEVENT
DTSTART;TZID=America/Chicago:20250222T090000
DTEND;TZID=America/Chicago:20250222T110000
DTSTAMP:20260422T105308
CREATED:20241231T165614Z
LAST-MODIFIED:20250203T174714Z
UID:10000332-1740214800-1740222000@keepgrapevinebeautiful.org
SUMMARY:Happy to Help Saturday
DESCRIPTION:FEBRUARY’S HAPPY TO HELP IS FULL! \nOur fourth Saturday community improvement event. Projects may include litter cleanup\, invasive removal or planting. \n 
URL:https://keepgrapevinebeautiful.org/event/happy/
LOCATION:TX
CATEGORIES:Beautification,Litter Prevention,Volunteering
ATTACH;FMTTYPE=image/jpeg:https://keepgrapevinebeautiful.org/wp-content/uploads/2024/12/Archer-Taylor.jpg
ORGANIZER;CN="Keep Grapevine Beautiful":MAILTO:info@KeepGrapevineBeautiful.org
END:VEVENT
BEGIN:VEVENT
DTSTART;TZID=America/Chicago:20241123T090000
DTEND;TZID=America/Chicago:20241123T110000
DTSTAMP:20260422T105308
CREATED:20240711T142401Z
LAST-MODIFIED:20240930T195640Z
UID:10000323-1732352400-1732359600@keepgrapevinebeautiful.org
SUMMARY:Happy to Help Saturday
DESCRIPTION:Our fourth Saturday community improvement event. Projects may include litter cleanup\, invasive removal or planting. \n 
URL:https://keepgrapevinebeautiful.org/event/hth/2024-11-23/
LOCATION:Grapevine Area Parks\, Grapevine\, TX\, United States
CATEGORIES:Beautification,Litter Prevention
ATTACH;FMTTYPE=image/jpeg:https://keepgrapevinebeautiful.org/wp-content/uploads/2022/12/IMG_3692.jpeg
ORGANIZER;CN="Keep Grapevine Beautiful":MAILTO:info@KeepGrapevineBeautiful.org
END:VEVENT
BEGIN:VEVENT
DTSTART;TZID=America/Chicago:20240824T080000
DTEND;TZID=America/Chicago:20240824T100000
DTSTAMP:20260422T105308
CREATED:20240711T142401Z
LAST-MODIFIED:20240930T195640Z
UID:10000318-1724486400-1724493600@keepgrapevinebeautiful.org
SUMMARY:Happy to Help Saturday
DESCRIPTION:Our fourth Saturday community improvement event. Projects may include litter cleanup\, invasive removal or planting. \n 
URL:https://keepgrapevinebeautiful.org/event/hth/2024-08-24/
LOCATION:Grapevine Area Parks\, Grapevine\, TX\, United States
CATEGORIES:Beautification,Litter Prevention
ATTACH;FMTTYPE=image/jpeg:https://keepgrapevinebeautiful.org/wp-content/uploads/2022/12/IMG_3692.jpeg
ORGANIZER;CN="Keep Grapevine Beautiful":MAILTO:info@KeepGrapevineBeautiful.org
END:VEVENT
BEGIN:VEVENT
DTSTART;TZID=America/Chicago:20240705T080000
DTEND;TZID=America/Chicago:20240705T100000
DTSTAMP:20260422T105308
CREATED:20240605T144856Z
LAST-MODIFIED:20240605T190722Z
UID:10000317-1720166400-1720173600@keepgrapevinebeautiful.org
SUMMARY:Post-July 4th Cleanup Crusade
DESCRIPTION:The Fourth of July brings thousands of visitors to our community. Help our green spaces recover by removing litter left behind. You can make a tangible difference in your community\, protect local wildlife and natural beauty and enjoy a morning outdoors with like-minded neighbors. \nEarn volunteer service hours (if applicable). \nWe will have a centralized supply pickup and return station so you and your group can work at your own pace. We can provide locations that need the most attention. \nVolunteers younger than 14 must be accompanied by an adult. Location info and details will be sent to you the Monday before the event.
URL:https://keepgrapevinebeautiful.org/event/july5/
LOCATION:TX
CATEGORIES:Beautification,Litter Prevention,Volunteering
ATTACH;FMTTYPE=image/jpeg:https://keepgrapevinebeautiful.org/wp-content/uploads/2024/06/broom-firework-debris.jpg
ORGANIZER;CN="Cindy Harris":MAILTO:charris@grapevinetexas.gov
END:VEVENT
BEGIN:VEVENT
DTSTART;TZID=America/Chicago:20240622T080000
DTEND;TZID=America/Chicago:20240622T100000
DTSTAMP:20260422T105308
CREATED:20240327T184747Z
LAST-MODIFIED:20240607T200601Z
UID:10000309-1719043200-1719050400@keepgrapevinebeautiful.org
SUMMARY:Happy to Help Saturday
DESCRIPTION:Our fourth Saturday community improvement event. Projects may include litter cleanup\, invasive removal or planting. \n Registration opens one month prior to the event. 
URL:https://keepgrapevinebeautiful.org/event/happy-to-help-saturday-4/2024-06-22/
LOCATION:Grapevine Area Parks\, Grapevine\, TX\, United States
CATEGORIES:Beautification,Litter Prevention
ATTACH;FMTTYPE=image/jpeg:https://keepgrapevinebeautiful.org/wp-content/uploads/2022/12/IMG_3692.jpeg
ORGANIZER;CN="Keep Grapevine Beautiful":MAILTO:info@KeepGrapevineBeautiful.org
END:VEVENT
BEGIN:VEVENT
DTSTART;TZID=America/Chicago:20240323T090000
DTEND;TZID=America/Chicago:20240323T110000
DTSTAMP:20260422T105308
CREATED:20231127T215217Z
LAST-MODIFIED:20231211T194154Z
UID:10000304-1711184400-1711191600@keepgrapevinebeautiful.org
SUMMARY:Happy to Help Saturday
DESCRIPTION:Our fourth Saturday community improvement event. Projects may include litter cleanup\, painting and planting. \nRegistration opens one month before the event. 
URL:https://keepgrapevinebeautiful.org/event/happy-to-help-saturday-3-2-2/2024-03-23/
LOCATION:Grapevine Area Parks\, Grapevine\, TX\, United States
CATEGORIES:Beautification,Litter Prevention
ATTACH;FMTTYPE=image/jpeg:https://keepgrapevinebeautiful.org/wp-content/uploads/2023/08/Linda-121.jpeg
ORGANIZER;CN="Keep Grapevine Beautiful":MAILTO:info@KeepGrapevineBeautiful.org
END:VEVENT
BEGIN:VEVENT
DTSTART;TZID=America/Chicago:20240224T090000
DTEND;TZID=America/Chicago:20240224T110000
DTSTAMP:20260422T105308
CREATED:20231127T215217Z
LAST-MODIFIED:20231211T194154Z
UID:10000290-1708765200-1708772400@keepgrapevinebeautiful.org
SUMMARY:Happy to Help Saturday
DESCRIPTION:Our fourth Saturday community improvement event. Projects may include litter cleanup\, painting and planting. \nRegistration opens one month before the event. 
URL:https://keepgrapevinebeautiful.org/event/happy-to-help-saturday-3-2-2/2024-02-24/
LOCATION:Grapevine Area Parks\, Grapevine\, TX\, United States
CATEGORIES:Beautification,Litter Prevention
ATTACH;FMTTYPE=image/jpeg:https://keepgrapevinebeautiful.org/wp-content/uploads/2023/08/Linda-121.jpeg
ORGANIZER;CN="Keep Grapevine Beautiful":MAILTO:info@KeepGrapevineBeautiful.org
END:VEVENT
BEGIN:VEVENT
DTSTART;TZID=America/Chicago:20240127T090000
DTEND;TZID=America/Chicago:20240127T110000
DTSTAMP:20260422T105308
CREATED:20231127T215217Z
LAST-MODIFIED:20231211T194154Z
UID:10000266-1706346000-1706353200@keepgrapevinebeautiful.org
SUMMARY:Happy to Help Saturday
DESCRIPTION:Our fourth Saturday community improvement event. Projects may include litter cleanup\, painting and planting. \nRegistration opens one month before the event. 
URL:https://keepgrapevinebeautiful.org/event/happy-to-help-saturday-3-2-2/2024-01-27/
LOCATION:Grapevine Area Parks\, Grapevine\, TX\, United States
CATEGORIES:Beautification,Litter Prevention
ATTACH;FMTTYPE=image/jpeg:https://keepgrapevinebeautiful.org/wp-content/uploads/2023/08/Linda-121.jpeg
ORGANIZER;CN="Keep Grapevine Beautiful":MAILTO:info@KeepGrapevineBeautiful.org
END:VEVENT
BEGIN:VEVENT
DTSTART;TZID=America/Chicago:20231125T090000
DTEND;TZID=America/Chicago:20231125T110000
DTSTAMP:20260422T105308
CREATED:20230801T190252Z
LAST-MODIFIED:20231117T224423Z
UID:10000265-1700902800-1700910000@keepgrapevinebeautiful.org
SUMMARY:Happy to Help Saturday
DESCRIPTION:Our fourth Saturday community improvement event. Projects may include litter cleanup\, painting and planting. \nRegistration opens one month before the event. 
URL:https://keepgrapevinebeautiful.org/event/happy-to-help-saturday-3-2/2023-11-25/
LOCATION:Grapevine Area Parks\, Grapevine\, TX\, United States
CATEGORIES:Beautification,Litter Prevention
ATTACH;FMTTYPE=image/jpeg:https://keepgrapevinebeautiful.org/wp-content/uploads/2023/08/Linda-121.jpeg
ORGANIZER;CN="Keep Grapevine Beautiful":MAILTO:info@KeepGrapevineBeautiful.org
END:VEVENT
BEGIN:VEVENT
DTSTART;TZID=America/Chicago:20231028T090000
DTEND;TZID=America/Chicago:20231028T110000
DTSTAMP:20260422T105308
CREATED:20230801T190252Z
LAST-MODIFIED:20231117T224423Z
UID:10000201-1698483600-1698490800@keepgrapevinebeautiful.org
SUMMARY:Happy to Help Saturday
DESCRIPTION:Our fourth Saturday community improvement event. Projects may include litter cleanup\, painting and planting. \nRegistration opens one month before the event. 
URL:https://keepgrapevinebeautiful.org/event/happy-to-help-saturday-3-2/2023-10-28/
LOCATION:Grapevine Area Parks\, Grapevine\, TX\, United States
CATEGORIES:Beautification,Litter Prevention
ATTACH;FMTTYPE=image/jpeg:https://keepgrapevinebeautiful.org/wp-content/uploads/2023/08/Linda-121.jpeg
ORGANIZER;CN="Keep Grapevine Beautiful":MAILTO:info@KeepGrapevineBeautiful.org
END:VEVENT
BEGIN:VEVENT
DTSTART;TZID=America/Chicago:20230722T080000
DTEND;TZID=America/Chicago:20230722T100000
DTSTAMP:20260422T105308
CREATED:20230628T174906Z
LAST-MODIFIED:20230703T151454Z
UID:10000200-1690012800-1690020000@keepgrapevinebeautiful.org
SUMMARY:Happy to Help Saturday
DESCRIPTION:Our fourth Saturday community improvement event. Projects may include litter cleanup\, painting and planting. \n 
URL:https://keepgrapevinebeautiful.org/event/happy-to-help-saturday-3-3/
LOCATION:Grapevine Area Parks\, Grapevine\, TX\, United States
CATEGORIES:Beautification,Litter Prevention
ATTACH;FMTTYPE=image/jpeg:https://keepgrapevinebeautiful.org/wp-content/uploads/2022/12/IMG_3692.jpeg
ORGANIZER;CN="Keep Grapevine Beautiful":MAILTO:info@KeepGrapevineBeautiful.org
END:VEVENT
BEGIN:VEVENT
DTSTART;TZID=America/Chicago:20230705T080000
DTEND;TZID=America/Chicago:20230705T100000
DTSTAMP:20260422T105308
CREATED:20230515T204720Z
LAST-MODIFIED:20230524T182031Z
UID:10000205-1688544000-1688551200@keepgrapevinebeautiful.org
SUMMARY:July 5 Litter Cleanup
DESCRIPTION:Help us remove excess fireworks litter after the July 4th celebration. Plant and animal life thrive when grasses are free of litter and debris. You’ll make a visible impact! \n 
URL:https://keepgrapevinebeautiful.org/event/july-5-litter-cleanup/
LOCATION:Grapevine Area Parks\, Grapevine\, TX\, United States
CATEGORIES:Litter Prevention,Volunteering
ATTACH;FMTTYPE=image/jpeg:https://keepgrapevinebeautiful.org/wp-content/uploads/2023/05/broom-firework-debris.jpg
ORGANIZER;CN="Cindy Harris":MAILTO:charris@grapevinetexas.gov
END:VEVENT
END:VCALENDAR