BEGIN:VCALENDAR
VERSION:2.0
PRODID:-//Keep Grapevine Beautiful - ECPv6.6.3//NONSGML v1.0//EN
CALSCALE:GREGORIAN
METHOD:PUBLISH
X-WR-CALNAME:Keep Grapevine Beautiful
X-ORIGINAL-URL:https://keepgrapevinebeautiful.org
X-WR-CALDESC:Events for Keep Grapevine Beautiful
REFRESH-INTERVAL;VALUE=DURATION:PT1H
X-Robots-Tag:noindex
X-PUBLISHED-TTL:PT1H
BEGIN:VTIMEZONE
TZID:America/Chicago
BEGIN:DAYLIGHT
TZOFFSETFROM:-0600
TZOFFSETTO:-0500
TZNAME:CDT
DTSTART:20250309T080000
END:DAYLIGHT
BEGIN:STANDARD
TZOFFSETFROM:-0500
TZOFFSETTO:-0600
TZNAME:CST
DTSTART:20251102T070000
END:STANDARD
END:VTIMEZONE
BEGIN:VEVENT
DTSTART;TZID=America/Chicago:20251105T190000
DTEND;TZID=America/Chicago:20251105T200000
DTSTAMP:20260422T171754
CREATED:20250716T175007Z
LAST-MODIFIED:20251014T182938Z
UID:10000365-1762369200-1762372800@keepgrapevinebeautiful.org
SUMMARY:Underappreciated Projects
DESCRIPTION:Presented by Kathy Nelson\, Parks & Recreation’s Planning Manager and Landscape Architect. This ECO Talk will provide insights into projects throughout the City that add to our quality of life and appeal to visitors. Projects include Settlers Park\, Green Ribbon projects along Highway 121\, and future plans for pollinators and other landscapes.   \nRegistration opens one month prior!
URL:https://keepgrapevinebeautiful.org/event/cityprojects/
LOCATION:The Vine Arts Center\, 225 W. Worth St.\, Grapevine\, 76051
CATEGORIES:ECO Talks
ATTACH;FMTTYPE=image/jpeg:https://keepgrapevinebeautiful.org/wp-content/uploads/2025/07/2025_SettlersPark_Parks_99-scaled.jpg
ORGANIZER;CN="Cindy Harris":MAILTO:charris@grapevinetexas.gov
END:VEVENT
BEGIN:VEVENT
DTSTART;TZID=America/Chicago:20251001T190000
DTEND;TZID=America/Chicago:20251001T200000
DTSTAMP:20260422T171754
CREATED:20250716T174123Z
LAST-MODIFIED:20250922T173637Z
UID:10000364-1759345200-1759348800@keepgrapevinebeautiful.org
SUMMARY:Roots & Remedies: Nurturing Our Local Trees
DESCRIPTION:Join us for an engaging lecture led by Arborist Michael Smith from Bartlett Tree Service. We will be exploring the beauty and vitality of trees that are best suited and most prolific in our area. Discover essential tips on tree care\, from planting and pruning to identifying common diseases and implementing effective treatments. This talk promises valuable insights to help you become a steward of our urban forest.  \n 
URL:https://keepgrapevinebeautiful.org/event/trees/
LOCATION:The Vine Arts Center\, 225 W. Worth St.\, Grapevine\, 76051
CATEGORIES:ECO Talks
ATTACH;FMTTYPE=image/jpeg:https://keepgrapevinebeautiful.org/wp-content/uploads/2025/07/IMG_0878-scaled.jpg
ORGANIZER;CN="Cindy Harris":MAILTO:charris@grapevinetexas.gov
END:VEVENT
END:VCALENDAR