BEGIN:VCALENDAR
VERSION:2.0
PRODID:-//Keep Grapevine Beautiful - ECPv6.6.3//NONSGML v1.0//EN
CALSCALE:GREGORIAN
METHOD:PUBLISH
X-ORIGINAL-URL:https://keepgrapevinebeautiful.org
X-WR-CALDESC:Events for Keep Grapevine Beautiful
REFRESH-INTERVAL;VALUE=DURATION:PT1H
X-Robots-Tag:noindex
X-PUBLISHED-TTL:PT1H
BEGIN:VTIMEZONE
TZID:America/Chicago
BEGIN:DAYLIGHT
TZOFFSETFROM:-0600
TZOFFSETTO:-0500
TZNAME:CDT
DTSTART:20250309T080000
END:DAYLIGHT
BEGIN:STANDARD
TZOFFSETFROM:-0500
TZOFFSETTO:-0600
TZNAME:CST
DTSTART:20251102T070000
END:STANDARD
END:VTIMEZONE
BEGIN:VEVENT
DTSTART;TZID=America/Chicago:20250323T150000
DTEND;TZID=America/Chicago:20250323T160000
DTSTAMP:20260422T153056
CREATED:20250307T193754Z
LAST-MODIFIED:20250811T142544Z
UID:10000350-1742742000-1742745600@keepgrapevinebeautiful.org
SUMMARY:Park Ambassador Program
DESCRIPTION:Join Our Park Ambassadors! Our parks are enjoyed by thousands of guests each weekend. Park Ambassadors play a crucial role in enhancing the visitor experience\, boosting environmental education\, and promoting the Litter Ends With Us campaign. We are looking for good-natured volunteers to share their appreciation for natural environment with our visitors on the weekends at Oak Grove Park.  \nRegister for a training date below! Email Cindy Harris at Charris@grapevinetexas.gov with questions.  \n 
URL:https://keepgrapevinebeautiful.org/event/park-ambassador-program/
LOCATION:Lake Grapevine Runners and Walkers Clubhouse\, 2615 Dove Loop Road\, Grapevine\, United States
CATEGORIES:Beautification,Litter Prevention,Volunteering
ATTACH;FMTTYPE=image/png:https://keepgrapevinebeautiful.org/wp-content/uploads/2025/03/Litter-Ends-VL-1.png
ORGANIZER;CN="Keep Grapevine Beautiful":MAILTO:info@KeepGrapevineBeautiful.org
END:VEVENT
END:VCALENDAR